BEGIN:VCALENDAR
VERSION:2.0
PRODID:-//eventon.com NONSGML v1.0//EN
CALSCALE:GREGORIAN
METHOD:PUBLISH
BEGIN:VEVENT
UID:69e66eef9dc37
DTSTAMP:20260420T182239Z
DTSTART:20260716
DTEND:20260717
LOCATION:Hilton Salt Lake City Center 255 South West Temple St
SUMMARY:48th USA MOO DUK KWAN® NATIONAL FESTIVAL 2026
DESCRIPTION:https://soobahkdo.us/festival/\nhttps://soobahkdo.us/calendar/e
 vents-all/48th-usa-moo-duk-kwan-national-festival-2026/
URL:https://soobahkdo.us/calendar/events-all/48th-usa-moo-duk-kwan-national-festival-2026/
END:VEVENT
END:VCALENDAR