BEGIN:VCALENDAR
VERSION:2.0
PRODID:-//eventon.com NONSGML v1.0//EN
CALSCALE:GREGORIAN
METHOD:PUBLISH
BEGIN:VEVENT
UID:69e66ef021301
DTSTAMP:20260420T182240Z
DTSTART:20260201
DTEND:20260202
LOCATION:USA All USA
SUMMARY:2026 7th Moo Duk Kwan® USA National Virtual Competition
DESCRIPTION:2026 7th Moo Duk Kwan® USA National Virtual Competition\nhttps
 ://soobahkdo.us/calendar/events-all/2026-7th-moo-duk-kwan-usa-national-virt
 ual-competition/
URL:https://soobahkdo.us/calendar/events-all/2026-7th-moo-duk-kwan-usa-national-virtual-competition/
END:VEVENT
END:VCALENDAR