BEGIN:VCALENDAR
VERSION:2.0
PRODID:-//eventon.com NONSGML v1.0//EN
CALSCALE:GREGORIAN
METHOD:PUBLISH
BEGIN:VEVENT
UID:69e66eeeba4db
DTSTAMP:20260420T182238Z
DTSTART:20261113
DTEND:20261114
LOCATION:DoubleTree By Hilton Minneapolis Minnesota 1500 Park Place Blvd Minneapolis\,  Minnesota 55416
SUMMARY:2026 Moo Duk Kwan® Moment With The Masters
DESCRIPTION:2026 Moo Duk Kwan® Moment With The Masters\nhttps://soobahkdo.
 us/calendar/events-all/moment-with-the-masters-2026/
URL:https://soobahkdo.us/calendar/events-all/moment-with-the-masters-2026/
END:VEVENT
END:VCALENDAR