BEGIN:VCALENDAR
VERSION:2.0
PRODID:-//eventon.com NONSGML v1.0//EN
CALSCALE:GREGORIAN
METHOD:PUBLISH
BEGIN:VEVENT
UID:69e66eef61ed1
DTSTAMP:20260420T182239Z
DTSTART:20261113
DTEND:20261114
LOCATION:DoubleTree By Hilton Minneapolis Minnesota 1500 Park Place Blvd Minneapolis\,  Minnesota 55416
SUMMARY:2026 Moo Duk Kwan® Ko Dan Ja Shim Sa
DESCRIPTION:2026 Moo Duk Kwan® Ko Dan Ja Shim Sa\nhttps://soobahkdo.us/cal
 endar/events-all/ko-dan-ja-shim-sa-2026/
URL:https://soobahkdo.us/calendar/events-all/ko-dan-ja-shim-sa-2026/
END:VEVENT
END:VCALENDAR