BEGIN:VCALENDAR
VERSION:2.0
PRODID:-//eventon.com NONSGML v1.0//EN
CALSCALE:GREGORIAN
METHOD:PUBLISH
BEGIN:VEVENT
UID:69ea40d7f1541
DTSTAMP:20260423T155503Z
DTSTART:20261124
DTEND:20261125
LOCATION:
SUMMARY:Native American Heritage Day
DESCRIPTION:Observance To hide observances\,  go to Google Calendar Setting
 s > Holidays in United States\nhttps://soobahkdo.us/calendar/events-all/nat
 ive-american-heritage-day-2/var/ri-3.l-L1
URL:https://soobahkdo.us/calendar/events-all/native-american-heritage-day-2/var/ri-3.l-L1
END:VEVENT
END:VCALENDAR