BEGIN:VCALENDAR
VERSION:2.0
PRODID:-//eventon.com NONSGML v1.0//EN
CALSCALE:GREGORIAN
METHOD:PUBLISH
BEGIN:VEVENT
UID:69eb9bd6eb415
DTSTAMP:20260424T163534Z
DTSTART:20260618
DTEND:20260619
LOCATION:
SUMMARY:Father's Day
DESCRIPTION:Observance To hide observances\,  go to Google Calendar Setting
 s &gt; Holidays in United States\nhttps://soobahkdo.us/calendar/events-all/
 fathers-day-2/var/ri-3.l-L1
URL:https://soobahkdo.us/calendar/events-all/fathers-day-2/var/ri-3.l-L1
END:VEVENT
END:VCALENDAR